BEGIN:VCALENDAR
VERSION:2.0
PRODID:-//Mira Mesa Recreation Council - ECPv6.15.20//NONSGML v1.0//EN
CALSCALE:GREGORIAN
METHOD:PUBLISH
X-WR-CALNAME:Mira Mesa Recreation Council
X-ORIGINAL-URL:https://miramesarecreationcouncil.org
X-WR-CALDESC:Events for Mira Mesa Recreation Council
REFRESH-INTERVAL;VALUE=DURATION:PT1H
X-Robots-Tag:noindex
X-PUBLISHED-TTL:PT1H
BEGIN:VTIMEZONE
TZID:America/Los_Angeles
BEGIN:DAYLIGHT
TZOFFSETFROM:-0800
TZOFFSETTO:-0700
TZNAME:PDT
DTSTART:20150308T100000
END:DAYLIGHT
BEGIN:STANDARD
TZOFFSETFROM:-0700
TZOFFSETTO:-0800
TZNAME:PST
DTSTART:20151101T090000
END:STANDARD
BEGIN:DAYLIGHT
TZOFFSETFROM:-0800
TZOFFSETTO:-0700
TZNAME:PDT
DTSTART:20160313T100000
END:DAYLIGHT
BEGIN:STANDARD
TZOFFSETFROM:-0700
TZOFFSETTO:-0800
TZNAME:PST
DTSTART:20161106T090000
END:STANDARD
BEGIN:DAYLIGHT
TZOFFSETFROM:-0800
TZOFFSETTO:-0700
TZNAME:PDT
DTSTART:20170312T100000
END:DAYLIGHT
BEGIN:STANDARD
TZOFFSETFROM:-0700
TZOFFSETTO:-0800
TZNAME:PST
DTSTART:20171105T090000
END:STANDARD
BEGIN:DAYLIGHT
TZOFFSETFROM:-0800
TZOFFSETTO:-0700
TZNAME:PDT
DTSTART:20180311T100000
END:DAYLIGHT
BEGIN:STANDARD
TZOFFSETFROM:-0700
TZOFFSETTO:-0800
TZNAME:PST
DTSTART:20181104T090000
END:STANDARD
END:VTIMEZONE
BEGIN:VEVENT
DTSTART;TZID=America/Los_Angeles:20170413T110000
DTEND;TZID=America/Los_Angeles:20170413T130000
DTSTAMP:20260423T062057
CREATED:20170214T035319Z
LAST-MODIFIED:20170214T035319Z
UID:2200-1492081200-1492088400@miramesarecreationcouncil.org
SUMMARY:Annual Spring Egg Hunt
DESCRIPTION:Download (PDF\, 458KB)
URL:https://miramesarecreationcouncil.org/event/annual-spring-egg-hunt/
LOCATION:Lopez Ridge Recreation Center\, 7245 Calle Cristobal\, San Diego\, CA\, 92126\, United States
END:VEVENT
BEGIN:VEVENT
DTSTART;TZID=America/Los_Angeles:20170411T190000
DTEND;TZID=America/Los_Angeles:20170411T203000
DTSTAMP:20260423T062057
CREATED:20170106T171015Z
LAST-MODIFIED:20170106T171015Z
UID:2131-1491937200-1491942600@miramesarecreationcouncil.org
SUMMARY:Mira Mesa Recreation Council Meeting
DESCRIPTION:
URL:https://miramesarecreationcouncil.org/event/mira-mesa-recreation-council-meeting-4/
LOCATION:Lopez Ridge Recreation Center Meeting Room\, 7245 Calle Cristobal\, San Diego\, CA\, 92126\, United States
END:VEVENT
BEGIN:VEVENT
DTSTART;TZID=America/Los_Angeles:20170404T163000
DTEND;TZID=America/Los_Angeles:20170404T180000
DTSTAMP:20260423T062057
CREATED:20170323T040036Z
LAST-MODIFIED:20170323T040036Z
UID:2278-1491323400-1491328800@miramesarecreationcouncil.org
SUMMARY:Bite of Reality - Financial Literacy workshop
DESCRIPTION:When: Tuesday April 4th from 4:30-6pm \nWhere: Mira Mesa Library 8405 New Salem St 92126 \nAbout Bite of Reality \nFun\, Safe\, and Interactive\nBite of Reality is a two-and-a-half-hour\, hands-on simulation that appeals to teens and young adults while giving them a taste of real-world financial realities. Teens and young adults are given a fictional occupation\, salary\, spouse and family\, student loan debt\, credit card debt\, and medical insurance payments. The teens and young adults then walk around to various table-top stations to “purchase” housing\, transportation\, food\, clothing\, household necessities\, day care\, and other needs. Fortunately\, the game also includes a “credit union” to help with their financial needs. \nThis interactive activity will teach teens and young adults how to make financial decisions and give them a better understanding of the challenges of living on a budget. Teens and young adults will have to deal with a pushy “car salesperson” and a commission-based “realtor\,” and weigh their wants versus their needs. There’s even a “Fickle Finger of Fate” that will give some of the students unexpected “expenses” or “windfalls”—just like in real life. \nSign up here! \n 
URL:https://miramesarecreationcouncil.org/event/bite-of-reality-financial-literacy-workshop/
LOCATION:Mira Mesa Library\, 8405 New Salem St\, San Diego\, CA\, 92126\, United States
END:VEVENT
BEGIN:VEVENT
DTSTART;TZID=America/Los_Angeles:20170330T130000
DTEND;TZID=America/Los_Angeles:20170330T150000
DTSTAMP:20260423T062057
CREATED:20170323T032200Z
LAST-MODIFIED:20170323T032200Z
UID:2266-1490878800-1490886000@miramesarecreationcouncil.org
SUMMARY:Spring EGGstravaganza
DESCRIPTION:Download (PDF\, 395KB)
URL:https://miramesarecreationcouncil.org/event/spring-eggstravaganza/
LOCATION:Mira Mesa Community Park\, 8575 New Salem St.\, San Diego\, CA\, 92126\, United States
END:VEVENT
BEGIN:VEVENT
DTSTART;TZID=America/Los_Angeles:20170314T190000
DTEND;TZID=America/Los_Angeles:20170314T203000
DTSTAMP:20260423T062057
CREATED:20170106T170925Z
LAST-MODIFIED:20170106T172016Z
UID:2129-1489518000-1489523400@miramesarecreationcouncil.org
SUMMARY:Mira Mesa Recreation Council Meeting
DESCRIPTION:NOTE – Location change to Salk Elementary School
URL:https://miramesarecreationcouncil.org/event/mira-mesa-recreation-council-meeting-3/
LOCATION:Salk Elementary Auditorium\, 7825 Flanders Dr\, San Diego\, 92126
END:VEVENT
BEGIN:VEVENT
DTSTART;TZID=America/Los_Angeles:20170304T090000
DTEND;TZID=America/Los_Angeles:20170304T140000
DTSTAMP:20260423T062057
CREATED:20170220T170325Z
LAST-MODIFIED:20170220T170325Z
UID:2209-1488618000-1488636000@miramesarecreationcouncil.org
SUMMARY:Mira Mesa Little League Opening Day
DESCRIPTION:
URL:https://miramesarecreationcouncil.org/event/mira-mesa-little-league-opening-day-2/
LOCATION:Mira Mesa Community Park\, 8575 New Salem St.\, San Diego\, CA\, 92126\, United States
ORGANIZER;CN="Mira Mesa Little League":MAILTO:REGISTRATION@miramesalittleleague.org
END:VEVENT
BEGIN:VEVENT
DTSTART;TZID=America/Los_Angeles:20170214T190000
DTEND;TZID=America/Los_Angeles:20170214T203000
DTSTAMP:20260423T062057
CREATED:20170106T170749Z
LAST-MODIFIED:20170106T170749Z
UID:2127-1487098800-1487104200@miramesarecreationcouncil.org
SUMMARY:Mira Mesa Recreation Council Meeting
DESCRIPTION:
URL:https://miramesarecreationcouncil.org/event/mira-mesa-recreation-council-meeting-2/
LOCATION:Lopez Ridge Recreation Center Meeting Room\, 7245 Calle Cristobal\, San Diego\, CA\, 92126\, United States
END:VEVENT
BEGIN:VEVENT
DTSTART;TZID=America/Los_Angeles:20170110T190000
DTEND;TZID=America/Los_Angeles:20170110T203000
DTSTAMP:20260423T062057
CREATED:20170106T170533Z
LAST-MODIFIED:20170106T171848Z
UID:2125-1484074800-1484080200@miramesarecreationcouncil.org
SUMMARY:Mira Mesa Recreation Council Meeting
DESCRIPTION:NOTE – Location change to Wangenheim Middle School
URL:https://miramesarecreationcouncil.org/event/mira-mesa-recreation-council-meeting/
LOCATION:Wangenheim Middle School Auditorium\, 9230 Gold Coast Dr.\, San Diego\, CA\, 92126
END:VEVENT
BEGIN:VEVENT
DTSTART;TZID=America/Los_Angeles:20161222T103000
DTEND;TZID=America/Los_Angeles:20161222T143000
DTSTAMP:20260423T062057
CREATED:20161130T023015Z
LAST-MODIFIED:20161130T023015Z
UID:2046-1482402600-1482417000@miramesarecreationcouncil.org
SUMMARY:December to Remember Kids Camp
DESCRIPTION:Download (PDF\, 510KB)
URL:https://miramesarecreationcouncil.org/event/december-to-remember-kids-camp-4/
LOCATION:Mira Mesa Community Park\, 8575 New Salem St.\, San Diego\, CA\, 92126\, United States
END:VEVENT
BEGIN:VEVENT
DTSTART;TZID=America/Los_Angeles:20161221T103000
DTEND;TZID=America/Los_Angeles:20161221T143000
DTSTAMP:20260423T062057
CREATED:20161130T022913Z
LAST-MODIFIED:20161130T022913Z
UID:2044-1482316200-1482330600@miramesarecreationcouncil.org
SUMMARY:December to Remember Kids Camp
DESCRIPTION:Download (PDF\, 510KB)
URL:https://miramesarecreationcouncil.org/event/december-to-remember-kids-camp-3/
LOCATION:Mira Mesa Community Park\, 8575 New Salem St.\, San Diego\, CA\, 92126\, United States
END:VEVENT
BEGIN:VEVENT
DTSTART;TZID=America/Los_Angeles:20161220T103000
DTEND;TZID=America/Los_Angeles:20161220T143000
DTSTAMP:20260423T062057
CREATED:20161130T022740Z
LAST-MODIFIED:20161130T022740Z
UID:2042-1482229800-1482244200@miramesarecreationcouncil.org
SUMMARY:December to Remember Kids Camp
DESCRIPTION:Download (PDF\, 510KB)
URL:https://miramesarecreationcouncil.org/event/december-to-remember-kids-camp-2/
LOCATION:Mira Mesa Community Park\, 8575 New Salem St.\, San Diego\, CA\, 92126\, United States
END:VEVENT
BEGIN:VEVENT
DTSTART;TZID=America/Los_Angeles:20161219T103000
DTEND;TZID=America/Los_Angeles:20161219T143000
DTSTAMP:20260423T062057
CREATED:20161130T022610Z
LAST-MODIFIED:20161130T022610Z
UID:2039-1482143400-1482157800@miramesarecreationcouncil.org
SUMMARY:December to Remember Kids Camp
DESCRIPTION:Download (PDF\, 510KB)
URL:https://miramesarecreationcouncil.org/event/december-to-remember-kids-camp/
LOCATION:Mira Mesa Community Park\, 8575 New Salem St.\, San Diego\, CA\, 92126\, United States
END:VEVENT
BEGIN:VEVENT
DTSTART;TZID=America/Los_Angeles:20161217T090000
DTEND;TZID=America/Los_Angeles:20161217T110000
DTSTAMP:20260423T062057
CREATED:20161202T001249Z
LAST-MODIFIED:20161202T001249Z
UID:2051-1481965200-1481972400@miramesarecreationcouncil.org
SUMMARY:Breakfast with Santa - Lopez Ridge
DESCRIPTION:Pre-Registration Dec. 1-14 – $5/person (#31458)\nTo register please visit our recreation center or log on to\nwww.SDRECCONNECT.com and enter the code (#31458)\nDownload flier: http://miramesarecreationcouncil.org/wp-content/uploads/2016/12/Lopez-Ridge-Breakfast-with-Santa-2016-REVISED.pdf
URL:https://miramesarecreationcouncil.org/event/breakfast-with-santa-lopez-ridge/
LOCATION:Lopez Ridge Recreation Center\, 7245 Calle Cristobal\, San Diego\, CA\, 92126\, United States
END:VEVENT
BEGIN:VEVENT
DTSTART;TZID=America/Los_Angeles:20161213T190000
DTEND;TZID=America/Los_Angeles:20161213T203000
DTSTAMP:20260423T062057
CREATED:20160104T050812Z
LAST-MODIFIED:20160104T050812Z
UID:1480-1481655600-1481661000@miramesarecreationcouncil.org
SUMMARY:Recreation Council Meeting
DESCRIPTION:
URL:https://miramesarecreationcouncil.org/event/recreation-council-meeting-16/
LOCATION:Lopez Ridge Recreation Center\, 7245 Calle Cristobal\, San Diego\, CA\, 92126\, United States
END:VEVENT
BEGIN:VEVENT
DTSTART;TZID=America/Los_Angeles:20161115T190000
DTEND;TZID=America/Los_Angeles:20161115T203000
DTSTAMP:20260423T062057
CREATED:20160104T050717Z
LAST-MODIFIED:20161109T021523Z
UID:1479-1479236400-1479241800@miramesarecreationcouncil.org
SUMMARY:Recreation Council Meeting
DESCRIPTION:
URL:https://miramesarecreationcouncil.org/event/recreation-council-meeting-15/
LOCATION:Lopez Ridge Recreation Center\, 7245 Calle Cristobal\, San Diego\, CA\, 92126\, United States
END:VEVENT
BEGIN:VEVENT
DTSTART;TZID=America/Los_Angeles:20161027T110000
DTEND;TZID=America/Los_Angeles:20161027T130000
DTSTAMP:20260423T062057
CREATED:20161018T230607Z
LAST-MODIFIED:20161018T230607Z
UID:1955-1477566000-1477573200@miramesarecreationcouncil.org
SUMMARY:Halloween Carnival at Lopez Ridge
DESCRIPTION:Ages 6 & under\nFace Painting\, Arts & Crafts\, Jumpers\, Costume Contest\, Pee Wee Sports\n& much more! \nCostume Contest Schedule:\n0-3 years old: 11:30am\n4-6 years old: 11:45am \nBring the whole family for a howling good time! \nLopez Ridge Recreation Center – 7245 Calle Cristobal – San Diego\, CA 92126\n(858) 538-8171
URL:https://miramesarecreationcouncil.org/event/halloween-carnival-at-lopez-ridge/
LOCATION:Lopez Ridge Recreation Center\, 7245 Calle Cristobal\, San Diego\, CA\, 92126\, United States
END:VEVENT
BEGIN:VEVENT
DTSTART;TZID=America/Los_Angeles:20161011T190000
DTEND;TZID=America/Los_Angeles:20161011T203000
DTSTAMP:20260423T062057
CREATED:20161004T220420Z
LAST-MODIFIED:20161004T220326Z
UID:1478-1476212400-1476217800@miramesarecreationcouncil.org
SUMMARY:PLANNING WORKSHOP CANCELLED
DESCRIPTION:the Planning Workshop for the combined parks between Walker and Wangenheim Schools\, originally scheduled for this date at Wangenheim\, has been CANCELLED.  \nThe usual monthly Mira Mesa Recreation Council meeting will take place at 7:00 pm\, at Lopez Ridge.
URL:https://miramesarecreationcouncil.org/event/recreation-council-meeting-14/
LOCATION:Wangenheim Middle School Auditorium\, 9230 Gold Coast Dr.\, San Diego\, CA\, 92126
END:VEVENT
BEGIN:VEVENT
DTSTART;TZID=America/Los_Angeles:20161011T190000
DTEND;TZID=America/Los_Angeles:20161011T203000
DTSTAMP:20260423T062057
CREATED:20161004T220102Z
LAST-MODIFIED:20161004T220102Z
UID:1937-1476212400-1476217800@miramesarecreationcouncil.org
SUMMARY:Recreation Council Meeting
DESCRIPTION:
URL:https://miramesarecreationcouncil.org/event/recreation-council-meeting-17/
LOCATION:Lopez Ridge Recreation Center\, 7245 Calle Cristobal\, San Diego\, CA\, 92126\, United States
END:VEVENT
BEGIN:VEVENT
DTSTART;TZID=America/Los_Angeles:20160913T190000
DTEND;TZID=America/Los_Angeles:20160913T203000
DTSTAMP:20260423T062057
CREATED:20160104T050520Z
LAST-MODIFIED:20160831T040347Z
UID:1477-1473793200-1473798600@miramesarecreationcouncil.org
SUMMARY:Recreation Council Meeting AND PLANNING WORKSHOP
DESCRIPTION:MMRC meeting and the Planning Workshop for the future Resource Park located within the Canyon Hills Open Space.\nMeeting and Workshop will be held at Lopez Ridge Neighborhood Park at 7:00 PM. \nInformation on Planning Workshops and Meeting Location Changes
URL:https://miramesarecreationcouncil.org/event/recreation-council-meeting-13/
LOCATION:Lopez Ridge Recreation Center\, 7245 Calle Cristobal\, San Diego\, CA\, 92126\, United States
ATTACH;FMTTYPE=image/png:https://miramesarecreationcouncil.org/wp-content/uploads/2016/01/PW-Canyon-Hills-Postcard.png
END:VEVENT
BEGIN:VEVENT
DTSTART;TZID=America/Los_Angeles:20160809T190000
DTEND;TZID=America/Los_Angeles:20160809T203000
DTSTAMP:20260423T062057
CREATED:20160104T050324Z
LAST-MODIFIED:20160806T172816Z
UID:1476-1470769200-1470774600@miramesarecreationcouncil.org
SUMMARY:Recreation Council Meeting AND PLANNING WORKSHOP - NEW LOCATION
DESCRIPTION:MMRC meeting and the Planning Workshop for the future park next to Salk Elementary School.\nMeeting and Workshop will be held in the Salk Elementary auditorium at 7:00 PM. \nInformation on Planning Workshops and Meeting Location Changes
URL:https://miramesarecreationcouncil.org/event/recreation-council-meeting-12/
LOCATION:Salk Elementary Auditorium\, 7825 Flanders Dr\, San Diego\, 92126
END:VEVENT
BEGIN:VEVENT
DTSTART;TZID=America/Los_Angeles:20160730T200000
DTEND;TZID=America/Los_Angeles:20160730T220000
DTSTAMP:20260423T062057
CREATED:20160624T174049Z
LAST-MODIFIED:20160624T174154Z
UID:1811-1469908800-1469916000@miramesarecreationcouncil.org
SUMMARY:Summer Movies In The Park
DESCRIPTION:Saturday\, July 30 : Inside Out Rated PG \n(click on poster image for full size) \n2016 Summer Movies in the Park\nFree evening movies all summer for the whole family…\nThis is a smoke-free park. Dogs on a leash are welcome\nMovie will begin at dusk. \nLocation:\nHourglass Field Community Park\n10440 Black Mountain Rd.\nSan Diego\, CA 92126\n858-538-8153\nhttps://www.sandiego.gov/park-and-recreation/centers/recctr/hourglass.shtml \nThis is a fun\, free and fabulous family activity close to home. Summer Movies in the Park is the perfect chance to\nrelax and enjoy a safe and special night under the stars. Early arrival is recommended to get a good location for your blankets and lawn chairs and enjoy the pre-movie special entertainment for all ages.  \nFor full series schedule and select movie trailers\, visit: SummerMoviesinthePark.com
URL:https://miramesarecreationcouncil.org/event/summer-movies-in-the-park/
LOCATION:Hourglass Field Park\, 10440 Black Mountain Road\, San Diego\, CA\, 92126\, United States
END:VEVENT
BEGIN:VEVENT
DTSTART;TZID=America/Los_Angeles:20160704T110000
DTEND;TZID=America/Los_Angeles:20160704T213000
DTSTAMP:20260423T062057
CREATED:20160115T205254Z
LAST-MODIFIED:20160115T211732Z
UID:1485-1467630000-1467667800@miramesarecreationcouncil.org
SUMMARY:Independence Day
DESCRIPTION:Federal and City Holiday\nCelebrate at the Mira Mesa Community 4th of July Parade and Family Fun Day in the Park!\nThe parade begins at 11:30 on Mira Mesa Blvd at Greenford\, and ends at the Mira Mesa Community Park.\nFamily Fun Day begins at 11AM and ends at 9PM\, when you can watch the annual Fireworks Extravaganza presented by Scripps Mesa Fireworks.
URL:https://miramesarecreationcouncil.org/event/cesar-chavez-day/
LOCATION:Gil Johnson Recreation Center\, 8575 New Salem St.\, San Diego\, CA\, 92126\, United States
END:VEVENT
BEGIN:VEVENT
DTSTART;TZID=America/Los_Angeles:20160614T190000
DTEND;TZID=America/Los_Angeles:20160614T203000
DTSTAMP:20260423T062057
CREATED:20160104T050234Z
LAST-MODIFIED:20160104T050234Z
UID:1475-1465930800-1465936200@miramesarecreationcouncil.org
SUMMARY:Recreation Council Meeting
DESCRIPTION:
URL:https://miramesarecreationcouncil.org/event/recreation-council-meeting-11/
LOCATION:Lopez Ridge Recreation Center\, 7245 Calle Cristobal\, San Diego\, CA\, 92126\, United States
END:VEVENT
BEGIN:VEVENT
DTSTART;VALUE=DATE:20160530
DTEND;VALUE=DATE:20160531
DTSTAMP:20260423T062057
CREATED:20160115T213026Z
LAST-MODIFIED:20160115T213026Z
UID:1489-1464566400-1464652799@miramesarecreationcouncil.org
SUMMARY:Memorial Day
DESCRIPTION:Federal and City Holiday
URL:https://miramesarecreationcouncil.org/event/memorial-day/
LOCATION:CA
END:VEVENT
BEGIN:VEVENT
DTSTART;TZID=America/Los_Angeles:20160510T190000
DTEND;TZID=America/Los_Angeles:20160510T203000
DTSTAMP:20260423T062057
CREATED:20160104T050129Z
LAST-MODIFIED:20160104T050129Z
UID:1474-1462906800-1462912200@miramesarecreationcouncil.org
SUMMARY:Recreation Council Meeting
DESCRIPTION:
URL:https://miramesarecreationcouncil.org/event/recreation-council-meeting-10/
LOCATION:Lopez Ridge Recreation Center\, 7245 Calle Cristobal\, San Diego\, CA\, 92126\, United States
END:VEVENT
BEGIN:VEVENT
DTSTART;TZID=America/Los_Angeles:20160507T110000
DTEND;TZID=America/Los_Angeles:20160507T140000
DTSTAMP:20260423T062057
CREATED:20160503T124124Z
LAST-MODIFIED:20160503T124228Z
UID:1717-1462618800-1462629600@miramesarecreationcouncil.org
SUMMARY:Spring Fair - Hourglass Field
DESCRIPTION:
URL:https://miramesarecreationcouncil.org/event/spring-fair-hourglass-field/
LOCATION:Hourglass Field Park\, 10440 Black Mountain Road\, San Diego\, CA\, 92126\, United States
END:VEVENT
BEGIN:VEVENT
DTSTART;TZID=America/Los_Angeles:20160412T190000
DTEND;TZID=America/Los_Angeles:20160412T203000
DTSTAMP:20260423T062057
CREATED:20160104T050036Z
LAST-MODIFIED:20160104T050036Z
UID:1473-1460487600-1460493000@miramesarecreationcouncil.org
SUMMARY:Recreation Council Meeting
DESCRIPTION:
URL:https://miramesarecreationcouncil.org/event/recreation-council-meeting-9/
LOCATION:Lopez Ridge Recreation Center\, 7245 Calle Cristobal\, San Diego\, CA\, 92126\, United States
END:VEVENT
BEGIN:VEVENT
DTSTART;VALUE=DATE:20160412
DTEND;VALUE=DATE:20160413
DTSTAMP:20260423T062057
CREATED:20160223T181633Z
LAST-MODIFIED:20160223T181633Z
UID:1617-1460419200-1460505599@miramesarecreationcouncil.org
SUMMARY:1st design workshop for Canyon Hills Resource Park.
DESCRIPTION:
URL:https://miramesarecreationcouncil.org/event/1st-design-workshop-for-canyon-hills-resource-park/
LOCATION:CA
END:VEVENT
BEGIN:VEVENT
DTSTART;TZID=America/Los_Angeles:20160403T080000
DTEND;TZID=America/Los_Angeles:20160403T170000
DTSTAMP:20260423T062057
CREATED:20160102T194449Z
LAST-MODIFIED:20160116T000216Z
UID:1469-1459670400-1459702800@miramesarecreationcouncil.org
SUMMARY:MLB Pitch\, Hit\, Run - Hosted by MMYB
DESCRIPTION:Needed:  Bat\, glove\, helmet
URL:https://miramesarecreationcouncil.org/event/mlb-pitch-hit-run/
LOCATION:Camino Ruiz Park\, Camino Ruiz and Calle Cristobal\, San Diego\, CA\, 92126\, United States
END:VEVENT
BEGIN:VEVENT
DTSTART;VALUE=DATE:20160331
DTEND;VALUE=DATE:20160401
DTSTAMP:20260423T062057
CREATED:20160115T211858Z
LAST-MODIFIED:20160115T211858Z
UID:1488-1459382400-1459468799@miramesarecreationcouncil.org
SUMMARY:César Chávez Day
DESCRIPTION:City Holiday
URL:https://miramesarecreationcouncil.org/event/cesar-chavez-day-2/
LOCATION:CA
END:VEVENT
END:VCALENDAR